BEGIN:VCALENDAR
VERSION:2.0
PRODID:-//ChamberMaster//Event Calendar 2.0//EN
METHOD:PUBLISH
X-PUBLISHED-TTL:P3D
REFRESH-INTERVAL:P3D
CALSCALE:GREGORIAN
BEGIN:VEVENT
DTSTART:20230425T160000Z
DTEND:20230425T170000Z
X-MICROSOFT-CDO-ALLDAYEVENT:FALSE
SUMMARY:April 25th | Mini MarkeTech Workshop in Columbus
DESCRIPTION:Join us for an in-person or virtual Mini MarkeTech Workshop hosted by GROW Nebraska at 11:00 am rescheduled to April 25th in the Columbus Area Chamber of Commerce conference room. \n\n\n\nIn this workshop you will learn:\n\n\n	Google Business Lising Tips\n	Social Media Tips\n	Importance of Online Visibility\n\n\nIn today's day of social media and websites\, investing in your online presence is just as important\, if not more important\, than having a store front or investing in a sales team.\n\n\n\nBring your laptop along and feel free to stay and work on your own google listing and social media with the help of experienced staff or brainstorm with like-minded individuals.\n\n\n\nThis workshop is free for Columbus Area Chamber Members or $20.00 for non-members. Virtual attendees will receive link to Zoom meeting after registration.\n\n\n\nRegister at:\n\nhttps://columbusareachamber.chambermaster.com/eventregistration/register/22081
X-ALT-DESC;FMTTYPE=text/html:<p style="outline: 0px\; vertical-align: baseline\; margin: 0px 0px 1rem\; padding: 0px\; box-sizing: border-box\; caret-color: rgb(68\, 68\, 68)\; color: rgb(68\, 68\, 68)\; font-family: Arial\, Helvetica\, sans-serif\; font-size: 14px\; background-position: 0px 0px\;">Join us for an in-person or virtual Mini MarkeTech Workshop hosted by GROW Nebraska at 11:00 am rescheduled to&nbsp\;<span style="outline: 0px\; vertical-align: baseline\; margin: 0px\; padding: 0px\; box-sizing: border-box\; background-position: 0px 0px\;">April 25th</span>&nbsp\;in the Columbus Area Chamber of Commerce conference room.&nbsp\;<br style="outline: 0px\; vertical-align: baseline\; margin: 0px\; padding: 0px\; box-sizing: border-box\; background-position: 0px 0px\;" />\n<br style="outline: 0px\; vertical-align: baseline\; margin: 0px\; padding: 0px\; box-sizing: border-box\; background-position: 0px 0px\;" />\n<strong><span style="outline: 0px\; vertical-align: baseline\; margin: 0px\; padding: 0px\; box-sizing: border-box\; background-position: 0px 0px\;">In this workshop you will learn:</span></strong></p>\n\n<ul style="outline: 0px\; vertical-align: baseline\; margin: 0px 0px 1rem\; padding-right: 0px\; padding-left: 0px\; box-sizing: border-box\; list-style: circle\; caret-color: rgb(68\, 68\, 68)\; color: rgb(68\, 68\, 68)\; font-family: Arial\, Helvetica\, sans-serif\; font-size: 14px\; background-position: 0px 0px\;">\n	<li style="outline: 0px\; vertical-align: baseline\; margin: 0px 0px 0px 20px\; padding: 0px\; list-style: square outside\; box-sizing: border-box\; background-position: 0px 0px\;"><span style="outline: 0px\; vertical-align: baseline\; margin: 0px\; padding: 0px\; box-sizing: border-box\; background-position: 0px 0px\;">Google Business Lising Tips</span></li>\n	<li style="outline: 0px\; vertical-align: baseline\; margin: 0px 0px 0px 20px\; padding: 0px\; list-style: square outside\; box-sizing: border-box\; background-position: 0px 0px\;"><span style="outline: 0px\; vertical-align: baseline\; margin: 0px\; padding: 0px\; box-sizing: border-box\; background-position: 0px 0px\;">Social Media Tips</span></li>\n	<li style="outline: 0px\; vertical-align: baseline\; margin: 0px 0px 0px 20px\; padding: 0px\; list-style: square outside\; box-sizing: border-box\; background-position: 0px 0px\;"><span style="outline: 0px\; vertical-align: baseline\; margin: 0px\; padding: 0px\; box-sizing: border-box\; background-position: 0px 0px\;">Importance of Online Visibility</span></li>\n</ul>\n\n<p style="box-sizing: border-box\; margin: 0px\; padding: 0px\; border: 0px\; outline: 0px\; font-size: 18px\; vertical-align: baseline\; caret-color: rgb(53\, 53\, 53)\; color: rgb(53\, 53\, 53)\; font-family: &quot\;Open Sans&quot\;\, Arial\, sans-serif\;"><span style="caret-color: rgb(35\, 35\, 51)\; color: rgb(35\, 35\, 51)\; font-family: Lato\, Helvetica\, Arial\; font-size: 14px\;"><span style="outline: 0px\; vertical-align: baseline\; margin: 0px\; padding: 0px\; box-sizing: border-box\; caret-color: rgb(68\, 68\, 68)\; color: rgb(68\, 68\, 68)\; font-family: Arial\, Helvetica\, sans-serif\; font-size: 14px\; background-position: 0px 0px\;">In today&#39\;s day of social media and websites\, investing in your online presence is just as important\, if not more important\, than having a store front or investing in a sales team.</span><br style="outline: 0px\; vertical-align: baseline\; margin: 0px\; padding: 0px\; box-sizing: border-box\; caret-color: rgb(68\, 68\, 68)\; color: rgb(68\, 68\, 68)\; font-family: Arial\, Helvetica\, sans-serif\; font-size: 14px\; background-position: 0px 0px\;" />\n<br style="outline: 0px\; vertical-align: baseline\; margin: 0px\; padding: 0px\; box-sizing: border-box\; caret-color: rgb(68\, 68\, 68)\; color: rgb(68\, 68\, 68)\; font-family: Arial\, Helvetica\, sans-serif\; font-size: 14px\; background-position: 0px 0px\;" />\n<span style="caret-color: rgb(68\, 68\, 68)\; color: rgb(68\, 68\, 68)\; font-family: Arial\, Helvetica\, sans-serif\; font-size: 14px\; background-color: rgb(249\, 249\, 249)\;">Bring your laptop along and feel free to stay and work on your own google listing and social media with the help of experienced staff or brainstorm with like-minded&nbsp\;individuals.</span><br style="outline: 0px\; vertical-align: baseline\; margin: 0px\; padding: 0px\; box-sizing: border-box\; caret-color: rgb(68\, 68\, 68)\; color: rgb(68\, 68\, 68)\; font-family: Arial\, Helvetica\, sans-serif\; font-size: 14px\; background-position: 0px 0px\;" />\n<br style="outline: 0px\; vertical-align: baseline\; margin: 0px\; padding: 0px\; box-sizing: border-box\; caret-color: rgb(68\, 68\, 68)\; color: rgb(68\, 68\, 68)\; font-family: Arial\, Helvetica\, sans-serif\; font-size: 14px\; background-position: 0px 0px\;" />\n<span style="caret-color: rgb(68\, 68\, 68)\; color: rgb(68\, 68\, 68)\; font-family: Arial\, Helvetica\, sans-serif\; font-size: 14px\; background-color: rgb(249\, 249\, 249)\;">This workshop is free for Columbus Area Chamber Members or $20.00 for non-members. Virtual attendees will receive link to Zoom meeting after registration.</span></span><br />\n<br />\n<span style="font-size:14px\;"><strong>Register at:</strong></span><br />\n<span style="font-size:16px\;"><strong><span style="font-size:14px\;"><a href="https://columbusareachamber.chambermaster.com/eventregistration/register/22081">https://columbusareachamber.chambermaster.com/eventregistration/register/22081</a></span></strong></span></p>\n
LOCATION:In-Person: Columbus Area Chamber of Commerce 753 33rd Ave
UID:e.9291.7654
SEQUENCE:3
DTSTAMP:20260421T122058Z
URL:http://grownebraska.memberzone.com/events/details/april-25th-mini-marketech-workshop-in-columbus-7654
END:VEVENT

END:VCALENDAR
