BEGIN:VCALENDAR
VERSION:2.0
PRODID:-//ChamberMaster//Event Calendar 2.0//EN
METHOD:PUBLISH
X-PUBLISHED-TTL:P3D
REFRESH-INTERVAL:P3D
CALSCALE:GREGORIAN
BEGIN:VEVENT
DTSTART;VALUE=DATE:20230301
DTEND;VALUE=DATE:20230303
TRANSP:TRANSPARENT
X-MICROSOFT-CDO-ALLDAYEVENT:TRUE
SUMMARY:MarkeTech + Agritourism & Adventure Travel Workshop
DESCRIPTION:Success Starts Here! GROW Nebraska Foundation and Nebraska Tourism Commison partner together to bring you the MarkeTech Conference + Agritourism & Adventure Travel Workshop together! You will be able to learn\, network\, and thrive at our conference on March 1st - 2nd
X-ALT-DESC;FMTTYPE=text/html:Success Starts Here! GROW Nebraska Foundation and Nebraska Tourism Commison partner together to bring you the MarkeTech Conference + Agritourism &amp\; Adventure Travel Workshop together! You will be able to learn\, network\, and thrive at our conference on March 1st - 2nd\n<p style="box-sizing: border-box\; margin: 0px\; padding: 0px 0px 1em\; border: 0px\; outline: 0px\; background: 0px 0px rgba(255\, 255\, 255\, 0.94)\; font-size: 14px\; vertical-align: baseline\; text-size-adjust: 100%\; line-height: 2.1em\; color: rgb(0\, 0\, 0)\; font-family: &quot\;Open Sans&quot\;\, Arial\, sans-serif\; text-align: center\;">&nbsp\;</p>\n
LOCATION:March 1st-43315 Rd 757\, Lexington\, NE 68850 March 2nd-Younes Conference Center | 416 West Talmadge Road | Kearney\, Nebraska After Party-McCue's Taproom
UID:e.9291.7601
SEQUENCE:3
DTSTAMP:20260421T115816Z
URL:http://grownebraska.memberzone.com/events/details/marketech-agritourism-adventure-travel-workshop-7601
END:VEVENT

END:VCALENDAR
