BEGIN:VCALENDAR
VERSION:2.0
PRODID:-//ChamberMaster//Event Calendar 2.0//EN
METHOD:PUBLISH
X-PUBLISHED-TTL:P3D
REFRESH-INTERVAL:P3D
CALSCALE:GREGORIAN
BEGIN:VEVENT
DTSTART:20230216T170000Z
DTEND:20230216T180000Z
X-MICROSOFT-CDO-ALLDAYEVENT:FALSE
SUMMARY:Mini MarkeTech in Columbus
DESCRIPTION:What to Expect?\n\n\n	Google Tips\n	Social Media Tips\n	Importance of Online Visibility\n\nRegister here: https://columbusareachamber.chambermaster.com/eventregistration/register/22081
X-ALT-DESC;FMTTYPE=text/html:<div>\n<p>What to Expect?</p>\n\n<ul>\n	<li>Google Tips</li>\n	<li>Social Media Tips</li>\n	<li>Importance of Online Visibility</li>\n</ul>\nRegister here:&nbsp\;<a href="https://columbusareachamber.chambermaster.com/eventregistration/register/22081">https://columbusareachamber.chambermaster.com/eventregistration/register/22081</a></div>\n
LOCATION:Columbus Area Chamber of Commerce 753 33rd Ave Columbus\, NE 68601
UID:e.9291.7642
SEQUENCE:3
DTSTAMP:20260421T133605Z
URL:http://grownebraska.memberzone.com/events/details/mini-marketech-in-columbus-7642
END:VEVENT

END:VCALENDAR
