BEGIN:VCALENDAR
VERSION:2.0
PRODID:-//ChamberMaster//Event Calendar 2.0//EN
METHOD:PUBLISH
X-PUBLISHED-TTL:P3D
REFRESH-INTERVAL:P3D
CALSCALE:GREGORIAN
BEGIN:VEVENT
DTSTART:20230127T000000Z
DTEND:20230127T020000Z
X-MICROSOFT-CDO-ALLDAYEVENT:FALSE
SUMMARY:Mini MarkeTech in Shickley
DESCRIPTION:What to Expect?\n\n\n	Google Tips\n	Social Media Tips\n	Importance of Online Visibility
X-ALT-DESC;FMTTYPE=text/html:<div>\n<p>What to Expect?</p>\n\n<ul>\n	<li>Google Tips</li>\n	<li>Social Media Tips</li>\n	<li>Importance of Online Visibility</li>\n</ul>\n</div>\n
LOCATION:Shickley Community Center 102 N Market St Shickley\, NE 68436
UID:e.9291.7635
SEQUENCE:3
DTSTAMP:20260421T140831Z
URL:http://grownebraska.memberzone.com/events/details/mini-marketech-in-shickley-7635
END:VEVENT

END:VCALENDAR
