BEGIN:VCALENDAR
VERSION:2.0
PRODID:-//ChamberMaster//Event Calendar 2.0//EN
METHOD:PUBLISH
X-PUBLISHED-TTL:P3D
REFRESH-INTERVAL:P3D
CALSCALE:GREGORIAN
BEGIN:VEVENT
DTSTART:20230124T220000Z
DTEND:20230124T233000Z
X-MICROSOFT-CDO-ALLDAYEVENT:FALSE
SUMMARY:Mini MarkeTech with Central Community College
DESCRIPTION:What to Expect?\n\n\n	Google Tips\n	Social Media Tips\n	Importance of Online Visibility
X-ALT-DESC;FMTTYPE=text/html:<div>\n<p>What to Expect?</p>\n\n<ul>\n	<li>Google Tips</li>\n	<li>Social Media Tips</li>\n	<li>Importance of Online Visibility</li>\n</ul>\n</div>\n
LOCATION:CCC Entrepreneurship Center 407 W 3rd Street Grand Island\, NE 68801
UID:e.9291.7633
SEQUENCE:3
DTSTAMP:20260421T160331Z
URL:http://grownebraska.memberzone.com/events/details/mini-marketech-with-central-community-college-7633
END:VEVENT

END:VCALENDAR
